BEGIN:VCALENDAR
VERSION:2.0
PRODID:-//wp-events-plugin.com//7.2.3.1//EN
BEGIN:VEVENT
UID:42@ferienwohnung-kehdingen.de
DTSTART:20241012T193000Z
DTEND:20241012T230000Z
DTSTAMP:20240221T122500Z
URL:https://ferienwohnung-kehdingen.de/events/wein-kaese-fest
SUMMARY:WEIN & KÄSE-FEST
DESCRIPTION:WEIN &amp\; KÄSE-FEST\n\n\n\nWEIN &amp\; KÄSE-FEST\nKONZERTE:
  AKUSTIK REMEMBAA &amp\; DIE JUNX\nzur Homepage\n\n\n\nAlle Ferienwohnunge
 n\n[pt_view id="18d6e06w21"]\n\n\n\nUnsere letzten Blogeinträge\n[pt_view
  id="6b07834yl4"]\n\n\n\n\nBesuchenswert:\n\n[caption id="attachment_721" 
 align="alignleft" width="300"] Natureum Niederelbe in Balje[/caption]\n\n\
 n\n
ATTACH;FMTTYPE=image/jpeg:https://ferienwohnung-kehdingen.de/wp-content/up
 loads/2023/05/12-10-24-wein.jpg
LOCATION:Kulturscheune Drochtersen\, Sietwender Straße 27\, Drochtersen\, 
 Niedersachsen\, 21706\, Kehdinger Land\, Deutschland
X-APPLE-STRUCTURED-LOCATION;VALUE=URI;X-ADDRESS=Sietwender Straße 27\, Dro
 chtersen\, Niedersachsen\, 21706\, Kehdinger Land\, Deutschland;X-APPLE-RA
 DIUS=100;X-TITLE=Kulturscheune Drochtersen:geo:0,0
END:VEVENT
END:VCALENDAR