BEGIN:VCALENDAR
VERSION:2.0
PRODID:-//wp-events-plugin.com//7.2.3.1//EN
BEGIN:VEVENT
UID:77@ferienwohnung-kehdingen.de
DTSTART:20240901T140000Z
DTEND:20240901T170000Z
DTSTAMP:20240118T064757Z
URL:https://ferienwohnung-kehdingen.de/events/vereinsfahren-sept
SUMMARY:Vereinsfahren
DESCRIPTION:Drochterser Modellbauclub e.V.\nDMC Allgemeines Vereinsfahren\n
 \n\n\nAllgemeines Vereinsfahren am See.\n\nJeden ersten Sonntag im Monat t
 reffen wir uns zum klönen und schippern.\n\nBei einem Becher Kaffee lasse
 n wir den Sonntag ausklingen.\n\nGern begrüßen wir auch kleine und groß
 e Zuschauer und Interessierte!\n\n[su_gmap address="53.751205\, 9.381986" 
 zoom="15" title="Vereinsgewässer DMC Drochterser Modellbauclub e.V."]\n\n
 \n\nAlle Ferienwohnungen\n[pt_view id="18d6e06w21"]\n\n\n\nUnsere letzten 
 Blogeinträge\n[pt_view id="6b07834yl4"]\n\n\n\n\nBesuchenswert:\n\n[capti
 on id="attachment_721" align="alignleft" width="250"] Natureum Niederelbe 
 in Balje[/caption]\n\n\n\n
ATTACH;FMTTYPE=image/jpeg:https://ferienwohnung-kehdingen.de/wp-content/up
 loads/2023/05/dmc-start.jpg
LOCATION:DMC Drochtersen\, Süderstraße\, Drochtersen\, Niedersachsen\, 21
 706\, Kehdinger Land\, Deutschland
X-APPLE-STRUCTURED-LOCATION;VALUE=URI;X-ADDRESS=Süderstraße\, Drochtersen
 \, Niedersachsen\, 21706\, Kehdinger Land\, Deutschland;X-APPLE-RADIUS=100
 ;X-TITLE=DMC Drochtersen:geo:0,0
END:VEVENT
END:VCALENDAR