BEGIN:VCALENDAR
VERSION:2.0
PRODID:-//wp-events-plugin.com//7.2.3.1//EN
BEGIN:VEVENT
UID:67@ferienwohnung-kehdingen.de
DTSTART:20240908T120000Z
DTEND:20240908T150000Z
DTSTAMP:20240112T100620Z
URL:https://ferienwohnung-kehdingen.de/events/tidenkieker-waterkant-9
SUMMARY:Tidenkieker "Waterkant"
DESCRIPTION:Tidenkieker "Waterkant"\n\n\n\n\nDie Gezeiten\, der mächtige P
 uls des Meeres\, prägen die Landschaft an der Niederelbe. Nach den Tiden\
 , wie die Menschen hier Ebbe und Flut nennen\, richten sich Tausende Sport
 skipper\, Kapitäne riesiger Containerfrachter und die Elbfischer auf ihre
 n Kuttern. Vom Bord des Flachbodenschiffes ´Tidenkieker´ können Sie die
 se einzigartige Gezeitenlandschaft in Begleitung von Kennern der Niederelb
 e hautnah erleben.\nSchiffs- und Fahrplanänderungen vorbehalten.\n\n\n\n\
 nAlle Ferienwohnungen\n[pt_view id="18d6e06w21"]\n\n\n\nUnsere letzten Blo
 geinträge\n[pt_view id="6b07834yl4"]\n\n\n\n\nBesuchenswert:\n\n[caption 
 id="attachment_721" align="alignleft" width="300"] Natureum Niederelbe in 
 Balje[/caption]\n\n\n\n\n
ATTACH;FMTTYPE=image/jpeg:https://ferienwohnung-kehdingen.de/wp-content/up
 loads/2023/05/tiedenkieker.jpg
LOCATION:Elbanleger Krautsand\, Elbstraße 1\, Drochtersen / Krautsand\, Ni
 edersachsen\, 21706\, Kehdinger Land\, Deutschland
X-APPLE-STRUCTURED-LOCATION;VALUE=URI;X-ADDRESS=Elbstraße 1\, Drochtersen 
 / Krautsand\, Niedersachsen\, 21706\, Kehdinger Land\, Deutschland;X-APPLE
 -RADIUS=100;X-TITLE=Elbanleger Krautsand:geo:0,0
END:VEVENT
END:VCALENDAR