BEGIN:VCALENDAR
VERSION:2.0
PRODID:-//wp-events-plugin.com//7.2.3.1//EN
BEGIN:VEVENT
UID:74@ferienwohnung-kehdingen.de
DTSTART:20240929T103000Z
DTEND:20240929T133000Z
DTSTAMP:20240112T101358Z
URL:https://ferienwohnung-kehdingen.de/events/tidenkieker-inselwelten-10
SUMMARY:Tidenkieker "Inselwelten"
DESCRIPTION:Tidenkieker "Inselwelten"\n\n\n\n\nDie Gezeiten\, der mächtige
  Puls des Meeres\, prägen die Landschaft an der Niederelbe. Nach den Tide
 n\, wie die Menschen hier Ebbe und Flut nennen\, richten sich Tausende Spo
 rtskipper\, Kapitäne riesiger Containerfrachter und die Elbfischer auf ih
 ren Kuttern. Vom Bord des Flachbodenschiffes ´Tidenkieker´ können Sie d
 iese einzigartige Gezeitenlandschaft in Begleitung von Kennern der Niedere
 lbe hautnah erleben.\nSchiffs- und Fahrplanänderungen vorbehalten.\n\n\n\
 n\nAlle Ferienwohnungen\n[pt_view id="18d6e06w21"]\n\n\n\nUnsere letzten B
 logeinträge\n[pt_view id="6b07834yl4"]\n\n\n\n\nBesuchenswert:\n\n[captio
 n id="attachment_721" align="alignleft" width="300"] Natureum Niederelbe i
 n Balje[/caption]\n\n\n\n\n
ATTACH;FMTTYPE=image/jpeg:https://ferienwohnung-kehdingen.de/wp-content/up
 loads/2023/05/tiedenkieker.jpg
LOCATION:Elbanleger Krautsand\, Elbstraße 1\, Drochtersen / Krautsand\, Ni
 edersachsen\, 21706\, Kehdinger Land\, Deutschland
X-APPLE-STRUCTURED-LOCATION;VALUE=URI;X-ADDRESS=Elbstraße 1\, Drochtersen 
 / Krautsand\, Niedersachsen\, 21706\, Kehdinger Land\, Deutschland;X-APPLE
 -RADIUS=100;X-TITLE=Elbanleger Krautsand:geo:0,0
END:VEVENT
END:VCALENDAR