BEGIN:VCALENDAR
VERSION:2.0
PRODID:-//wp-events-plugin.com//7.2.3.1//EN
BEGIN:VEVENT
UID:84@ferienwohnung-kehdingen.de
DTSTART:20240921T193000Z
DTEND:20240921T230000Z
DTSTAMP:20240221T115521Z
URL:https://ferienwohnung-kehdingen.de/events/stone
SUMMARY:Stone
DESCRIPTION:Stone in der Kulturscheune\n\n\n\nAlle Ferienwohnungen\n[pt_vie
 w id="18d6e06w21"]\n\n\n\nUnsere letzten Blogeinträge\n[pt_view id="6b078
 34yl4"]\n\n\n\n\nBesuchenswert:\n\n[caption id="attachment_721" align="ali
 gnleft" width="300"] Natureum Niederelbe in Balje[/caption]\n\n\n\n
ATTACH;FMTTYPE=image/jpeg:https://ferienwohnung-kehdingen.de/wp-content/up
 loads/2024/02/21-09-24-stone.jpg
LOCATION:Kulturscheune Drochtersen\, Sietwender Straße 27\, Drochtersen\, 
 Niedersachsen\, 21706\, Kehdinger Land\, Deutschland
X-APPLE-STRUCTURED-LOCATION;VALUE=URI;X-ADDRESS=Sietwender Straße 27\, Dro
 chtersen\, Niedersachsen\, 21706\, Kehdinger Land\, Deutschland;X-APPLE-RA
 DIUS=100;X-TITLE=Kulturscheune Drochtersen:geo:0,0
END:VEVENT
END:VCALENDAR