BEGIN:VCALENDAR
VERSION:2.0
PRODID:-//wp-events-plugin.com//7.2.3.1//EN
BEGIN:VEVENT
UID:21@ferienwohnung-kehdingen.de
DTSTART:20250615T110000Z
DTEND:20250615T170000Z
DTSTAMP:20250429T121250Z
URL:https://ferienwohnung-kehdingen.de/events/radler-und-skatertag
SUMMARY:Radler- und Skatertag
DESCRIPTION:Radler- und Skatertag in Drochtersen/Krautsand\n\n\n\nDie einzi
 gartige Kulisse der Elbe\, mit großen Containerschiffen und kleinen Segel
 booten\, das weite grüne Land am großen Strom und die malerische Insel K
 rautsand bilden den Hintergrund einer außergewöhnlichen Veranstaltung: R
 adfahrer und Skater aus nah und fern sind eingeladen\, vom Rathaus Drochte
 rsen aus entlang der Elbe zur Insel Krautsand zu fahren. Die Geschwindigke
 it kann jeder selbst bestimmen. Für gute Stimmung sorgt ein Quiz mit attr
 aktiven Preisen und ein nettes Unterhaltungsprogramm an den Rallyestatione
 n unterwegs.\n\n\n\nAlle Ferienwohnungen\n[pt_view id="18d6e06w21"]\n\n\n\
 nUnsere letzten Blogeinträge\n[pt_view id="6b07834yl4"]\n\n\n\n\nBesuchen
 swert:\n\n[caption id="attachment_721" align="alignleft" width="300"] Natu
 reum Niederelbe in Balje[/caption]\n\n\n\n
ATTACH;FMTTYPE=image/jpeg:https://ferienwohnung-kehdingen.de/wp-content/up
 loads/2023/03/radler-und-skatertag-drochtersen.jpg
LOCATION:Drochtersen\, Sietwender Straße 27\, Drochtersen\, Niedersachsen\
 , 21706\, Kehdinger Land\, Deutschland
X-APPLE-STRUCTURED-LOCATION;VALUE=URI;X-ADDRESS=Sietwender Straße 27\, Dro
 chtersen\, Niedersachsen\, 21706\, Kehdinger Land\, Deutschland;X-APPLE-RA
 DIUS=100;X-TITLE=Drochtersen:geo:0,0
END:VEVENT
END:VCALENDAR