BEGIN:VCALENDAR
VERSION:2.0
PRODID:-//wp-events-plugin.com//7.2.3.1//EN
BEGIN:VEVENT
UID:40@ferienwohnung-kehdingen.de
DTSTART:20230930T170000Z
DTEND:20230930T220000Z
DTSTAMP:20230522T093009Z
URL:https://ferienwohnung-kehdingen.de/events/oktoberfest-drochtersen
SUMMARY:OKTOBERFEST DROCHTERSEN
DESCRIPTION:OKTOBERFEST DROCHTERSEN\n\n\n\nKehdinger Blasmusikanten\, DJ Ec
 ki der Stimmungskönig und DJ Anton\n\nzur Homepage\n\n\n\nAlle Ferienwohn
 ungen\n[pt_view id="18d6e06w21"]\n\n\n\nUnsere letzten Blogeinträge\n[pt_
 view id="6b07834yl4"]\n\n\n\n\nBesuchenswert:\n\n[caption id="attachment_7
 21" align="alignleft" width="300"] Natureum Niederelbe in Balje[/caption]\
 n\n\n\n
ATTACH;FMTTYPE=image/jpeg:https://ferienwohnung-kehdingen.de/wp-content/up
 loads/2023/05/kulturscheune-drochtersen-30-09-23-oktoberfest.jpg
LOCATION:Kulturscheune Drochtersen\, Sietwender Straße 27\, Drochtersen\, 
 Niedersachsen\, 21706\, Kehdinger Land\, Deutschland
X-APPLE-STRUCTURED-LOCATION;VALUE=URI;X-ADDRESS=Sietwender Straße 27\, Dro
 chtersen\, Niedersachsen\, 21706\, Kehdinger Land\, Deutschland;X-APPLE-RA
 DIUS=100;X-TITLE=Kulturscheune Drochtersen:geo:0,0
END:VEVENT
END:VCALENDAR