BEGIN:VCALENDAR
VERSION:2.0
PRODID:-//wp-events-plugin.com//7.2.3.1//EN
BEGIN:VEVENT
UID:48@ferienwohnung-kehdingen.de
DTSTART:20240921T180000Z
DTEND:20240921T230000Z
DTSTAMP:20240118T064516Z
URL:https://ferienwohnung-kehdingen.de/events/nachtfahren-am-see
SUMMARY:Nachtfahren am See
DESCRIPTION:Nachtfahren am See\n\n\n\nAm 21.09.24 findet ab 18:00 Uhr unser
  Nachtfahren statt.\n\nSe(h)eleuchte und Besucher sind wie immer herzlich 
 willkommen.\n\nWir haben ab 18:00 Uhr den Grill an. ( Selbstversorgung )\n
 \nHomepage Drochterser Modellbauclub e.V.\n\n\n\neine kleine Auswahl der M
 odelle der Veinsmitglieder\n\n[Best_Wordpress_Gallery id="31" gal_title="D
 MC Boote"]\n\n\n\n[fvplayer id="8"]\n\n\n\n[su_gmap address="53.751205\, 9
 .381986" zoom="15" title="Vereinsgewässer DMC Drochterser Modellbauclub e
 .V."]\n\n\n\nAlle Ferienwohnungen\n[pt_view id="18d6e06w21"]\n\n\n\nUnsere
  letzten Blogeinträge\n[pt_view id="6b07834yl4"]\n\n\n\n\nBesuchenswert:\
 n\n[caption id="attachment_721" align="alignleft" width="250"] Natureum Ni
 ederelbe in Balje[/caption]\n\n\n\n
ATTACH;FMTTYPE=image/jpeg:https://ferienwohnung-kehdingen.de/wp-content/up
 loads/2023/05/dmc-start-1.jpg
END:VEVENT
END:VCALENDAR