BEGIN:VCALENDAR
VERSION:2.0
PRODID:-//wp-events-plugin.com//7.2.3.1//EN
BEGIN:VEVENT
UID:61@ferienwohnung-kehdingen.de
DTSTART:20240915T100000Z
DTEND:20240915T130000Z
DTSTAMP:20240112T100007Z
URL:https://ferienwohnung-kehdingen.de/events/moorkieker-21
SUMMARY:Moorkieker
DESCRIPTION:Moorkieker\n\n\n\nEine Landschaft im Wandel erleben mit dem Moo
 rkieker während einer zwei- bis dreistündigen Fahrt auf dem 4 km langen 
 Rundkurs zu den typischen Stationen der Landschaftsentwicklung im Kehdinge
 r Moor: Hochmoor auf 1.200 m Bohlenweg sicher erforschen\, Grünlandnutzun
 g auf Hochmoor am Bodenprofil erkennen\, Torfabbau - heute und einst sowie
  Moorrenaturierung - das Moor nach dem Torfabbau.\n\nzum Moorkieker\n\n\n\
 nAlle Ferienwohnungen\n[pt_view id="18d6e06w21"]\n\n\n\nUnsere letzten Blo
 geinträge\n[pt_view id="6b07834yl4"]\n\n\n\n\nBesuchenswert:\n\n[caption 
 id="attachment_721" align="alignleft" width="300"] Natureum Niederelbe in 
 Balje[/caption]\n\n\n\n
ATTACH;FMTTYPE=image/jpeg:https://ferienwohnung-kehdingen.de/wp-content/up
 loads/2023/05/moorkieker.jpg
CATEGORIES:Naturerlebnis
LOCATION:Drochtersen Aschhorn\, Aschhorn 11\, Drochtersen Aschhorn\, Nieder
 sachsen\, 21706\, Kehdinger Land\, Deutschland
X-APPLE-STRUCTURED-LOCATION;VALUE=URI;X-ADDRESS=Aschhorn 11\, Drochtersen A
 schhorn\, Niedersachsen\, 21706\, Kehdinger Land\, Deutschland;X-APPLE-RAD
 IUS=100;X-TITLE=Drochtersen Aschhorn:geo:0,0
END:VEVENT
END:VCALENDAR