BEGIN:VCALENDAR
VERSION:2.0
PRODID:-//wp-events-plugin.com//7.2.3.1//EN
BEGIN:VEVENT
UID:82@ferienwohnung-kehdingen.de
DTSTART:20240615T193000Z
DTEND:20240615T230000Z
DTSTAMP:20240221T113301Z
URL:https://ferienwohnung-kehdingen.de/events/mavericks
SUMMARY:Maverick`s
DESCRIPTION:Maverick`s Country Music Show\n\n\n\nKulturscheune Drochtersen
 \n\n\n\nAlle Ferienwohnungen\n[pt_view id="18d6e06w21"]\n\n\n\nUnsere letz
 ten Blogeinträge\n[pt_view id="6b07834yl4"]\n\n\n\n\nBesuchenswert:\n\n[c
 aption id="attachment_721" align="alignleft" width="300"] Natureum Niedere
 lbe in Balje[/caption]\n\n\n\n
ATTACH;FMTTYPE=image/jpeg:https://ferienwohnung-kehdingen.de/wp-content/up
 loads/2024/02/15-06-24-mavericks.jpg
LOCATION:Kulturscheune Drochtersen\, Sietwender Straße 27\, Drochtersen\, 
 Niedersachsen\, 21706\, Kehdinger Land\, Deutschland
X-APPLE-STRUCTURED-LOCATION;VALUE=URI;X-ADDRESS=Sietwender Straße 27\, Dro
 chtersen\, Niedersachsen\, 21706\, Kehdinger Land\, Deutschland;X-APPLE-RA
 DIUS=100;X-TITLE=Kulturscheune Drochtersen:geo:0,0
END:VEVENT
END:VCALENDAR