BEGIN:VCALENDAR
VERSION:2.0
PRODID:-//wp-events-plugin.com//7.2.3.1//EN
BEGIN:VEVENT
UID:78@ferienwohnung-kehdingen.de
DTSTART:20250111T190000Z
DTEND:20250112T020000Z
DTSTAMP:20240118T083353Z
URL:https://ferienwohnung-kehdingen.de/events/krautsander-hafenball
SUMMARY:Krautsander Hafenball
DESCRIPTION:Krautsander Hafenball\n\n\n\nZum 90-jährigen Bestehen der Hafe
 ngemeinschaft Krautsand feiern wir den beliebten Krautsander Hafenball im 
 Krutsander.\n\nWeitere Informationen felgen\n\n\n\nAlle Ferienwohnungen\n[
 pt_view id="18d6e06w21"]\n\n\n\nUnsere letzten Blogeinträge\n[pt_view id=
 "6b07834yl4"]\n\n\n\n\nBesuchenswert:\n\n[caption id="attachment_721" alig
 n="alignleft" width="300"] Natureum Niederelbe in Balje[/caption]\n\n\n\n
END:VEVENT
END:VCALENDAR