BEGIN:VCALENDAR
VERSION:2.0
PRODID:-//wp-events-plugin.com//7.2.3.1//EN
BEGIN:VEVENT
UID:79@ferienwohnung-kehdingen.de
DTSTART:20241005T120000Z
DTEND:20241006T170000Z
DTSTAMP:20240118T100552Z
URL:https://ferienwohnung-kehdingen.de/events/kornspeichermarkt
SUMMARY:Kornspeichermarkt
DESCRIPTION:Kornspeichermarkt im hist. Kornspeicher in Freiburg / Elbe\n\n\
 n\n\nKREATIVES HANDWERK IM KORNSPEICHER\n\n\n\nZahlreiche Aussteller aus K
 unst und Handwerk bieten auch in diesem Jahr beim Kornspeichermarkt ihre P
 rodukte zum Kauf an. Auf den drei Etagen des Historischen Kornspeichers un
 d dem Außengelände erwarten die Besucher neben Seifen\, Kerzen\, Schmuck
 \, Besticktem und Genähtem\, auch vielfältige Dekorationsartikel aus Hol
 z und Eisen sowie landwirtschaftliche Produkte von regionalen Erzeugern. E
 ine üppige Auswahl an herzhaften und süßen Speisen lädt zum Verweilen 
 ein. Der Eintritt ist frei.\n\nDie Aussteller präsentieren individuelle P
 rodukte aus eigener Produktion\, denn der traditionelle Herbstmarkt im Kor
 nspeicher soll keinen Massenkonsum abbilden. Viel mehr freuen wir uns auf 
 die kunsthandwerklich mit sehr viel Feingefühl angefertigten Unikate. Ein
  Großteil der Aussteller kommt aus den Landkreisen Stade und Cuxhaven\, d
 och so manch einer nimmt mehrere Stunden Anfahrt in Kauf\, um beim Kornspe
 ichermarkt dabei zu sein.\n\n\n\nAlle Ferienwohnungen\n[pt_view id="18d6e0
 6w21"]\n\n\n\nUnsere letzten Blogeinträge\n[pt_view id="6b07834yl4"]\n\n\
 n\n\nBesuchenswert:\n\n[caption id="attachment_721" align="alignleft" widt
 h="300"] Natureum Niederelbe in Balje[/caption]\n\n\n\n\n
ATTACH;FMTTYPE=image/jpeg:https://ferienwohnung-kehdingen.de/wp-content/up
 loads/2024/01/kornspeicher-Freiburg.jpg
LOCATION:Historischer Kornspeicher Freiburg\, Elbstraße 2\, Freiburg\, 217
 29\, Deutschland
X-APPLE-STRUCTURED-LOCATION;VALUE=URI;X-ADDRESS=Elbstraße 2\, Freiburg\, 2
 1729\, Deutschland;X-APPLE-RADIUS=100;X-TITLE=Historischer Kornspeicher Fr
 eiburg:geo:0,0
END:VEVENT
END:VCALENDAR