BEGIN:VCALENDAR
VERSION:2.0
PRODID:-//wp-events-plugin.com//7.2.3.1//EN
BEGIN:VEVENT
UID:80@ferienwohnung-kehdingen.de
DTSTART:20240426T193000Z
DTEND:20240426T230000Z
DTSTAMP:20240221T111835Z
URL:https://ferienwohnung-kehdingen.de/events/island-monkeys
SUMMARY:Island Monkeys
DESCRIPTION:Island Monkeys\nSaisonstart in der Kulturscheune Drochetersen\n
 \n\n\n&nbsp\;\n\n\n\nAlle Ferienwohnungen\n[pt_view id="18d6e06w21"]\n\n\n
 \nUnsere letzten Blogeinträge\n[pt_view id="6b07834yl4"]\n\n\n\n\nBesuche
 nswert:\n\n[caption id="attachment_721" align="alignleft" width="300"] Nat
 ureum Niederelbe in Balje[/caption]\n\n\n\n
ATTACH;FMTTYPE=image/jpeg:https://ferienwohnung-kehdingen.de/wp-content/up
 loads/2024/02/26-04-24-island-monkeys.jpg
LOCATION:Kulturscheune Drochtersen\, Sietwender Straße 27\, Drochtersen\, 
 Niedersachsen\, 21706\, Kehdinger Land\, Deutschland
X-APPLE-STRUCTURED-LOCATION;VALUE=URI;X-ADDRESS=Sietwender Straße 27\, Dro
 chtersen\, Niedersachsen\, 21706\, Kehdinger Land\, Deutschland;X-APPLE-RA
 DIUS=100;X-TITLE=Kulturscheune Drochtersen:geo:0,0
END:VEVENT
END:VCALENDAR