BEGIN:VCALENDAR
VERSION:2.0
PRODID:-//wp-events-plugin.com//7.2.3.1//EN
BEGIN:VEVENT
UID:6@ferienwohnung-kehdingen.de
DTSTART:20250601T080000Z
DTEND:20250601T160000Z
DTSTAMP:20241121T112227Z
URL:https://ferienwohnung-kehdingen.de/events/flohmarkt-auf-krautsand-juni
SUMMARY:Flohmarkt auf Krautsand
DESCRIPTION:Flohmarkt auf Krautsand\n\n\n\nLiebe Freundinnen und Freunde un
 seres Flohmarktes\,\n\nauch dieses Jahr veranstaltet der GVD wieder Flohm
 ärkte auf Krautsand am Elbstrand.\n\n\n\nAlle Ferienwohnungen\n[pt_view i
 d="18d6e06w21"]\n\n\n\nUnsere letzten Blogeinträge\n[pt_view id="6b07834y
 l4"]\n\n\n\n\nBesuchenswert:\n\n[caption id="attachment_721" align="alignl
 eft" width="300"] Natureum Niederelbe in Balje[/caption]\n\n\n\n
ATTACH;FMTTYPE=image/jpeg:https://ferienwohnung-kehdingen.de/wp-content/up
 loads/2023/03/flohmarkt-krautsand.jpg
LOCATION:Elbinsel Krautsand\, Elbstraße 1 \, Krautsand\, Niedersachsen\, 2
 1706\, Kehdinger Land\, Deutschland
X-APPLE-STRUCTURED-LOCATION;VALUE=URI;X-ADDRESS=Elbstraße 1 \, Krautsand\,
  Niedersachsen\, 21706\, Kehdinger Land\, Deutschland;X-APPLE-RADIUS=100;X
 -TITLE=Elbinsel Krautsand:geo:0,0
END:VEVENT
END:VCALENDAR