BEGIN:VCALENDAR
VERSION:2.0
PRODID:-//wp-events-plugin.com//7.2.3.1//EN
BEGIN:VEVENT
UID:20@ferienwohnung-kehdingen.de
DTSTART:20240608T120000Z
DTEND:20240608T234500Z
DTSTAMP:20240112T103744Z
URL:https://ferienwohnung-kehdingen.de/events/elbstrand-festival-krautsand
SUMMARY:Elbstrand Festival Krautsand
DESCRIPTION:Elbstrand Festival Krautsand - Party an der Elbe!\nUnd wieder t
 reffen sich viele Leute um zu feiern an der Elbe! Auch 2024 findet das Elb
 strand Festival in Krautsand wieder statt!\nzum Ticketverkauf\n\n\n\nAlle 
 Ferienwohnungen\n[pt_view id="18d6e06w21"]\n\n\n\nUnsere letzten Blogeintr
 äge\n[pt_view id="6b07834yl4"]\n\n\n\n\nBesuchenswert:\n\n[caption id="at
 tachment_721" align="alignleft" width="300"] Natureum Niederelbe in Balje[
 /caption]\n\n\n\n
ATTACH;FMTTYPE=image/jpeg:https://ferienwohnung-kehdingen.de/wp-content/up
 loads/2023/05/elbstrand-festival-2024.jpg
LOCATION:Elbinsel Krautsand\, Elbstraße 1 \, Krautsand\, Niedersachsen\, 2
 1706\, Kehdinger Land\, Deutschland
X-APPLE-STRUCTURED-LOCATION;VALUE=URI;X-ADDRESS=Elbstraße 1 \, Krautsand\,
  Niedersachsen\, 21706\, Kehdinger Land\, Deutschland;X-APPLE-RADIUS=100;X
 -TITLE=Elbinsel Krautsand:geo:0,0
END:VEVENT
END:VCALENDAR