BEGIN:VCALENDAR
VERSION:2.0
PRODID:-//wp-events-plugin.com//7.2.3.1//EN
BEGIN:VEVENT
UID:49@ferienwohnung-kehdingen.de
DTSTART:20250405T110000Z
DTEND:20250406T180000Z
DTSTAMP:20241121T114724Z
URL:https://ferienwohnung-kehdingen.de/events/bluetenfest-in-drochtersen
SUMMARY:Blütenfest in Drochtersen
DESCRIPTION:Blütenfest in Drochtersen\n\n\n\nWie jedes Jahr feiert Drochte
 rsen die ersten Frühjahrsblüher mit dem Blütenfest mit gleichzeitigen v
 erkaufsoffenen Sonntag. Viele Vereine stellen sich vor. Für das leibliche
  Wohl wird ausreichend gesorgt.\n\n\n\nAlle Ferienwohnungen\n[pt_view id="
 18d6e06w21"]\n\n\n\nUnsere letzten Blogeinträge\n[pt_view id="6b07834yl4"
 ]\n\n\n\n\nBesuchenswert:\n\n[caption id="attachment_721" align="alignleft
 " width="250"] Natureum Niederelbe in Balje[/caption]\n\n\n\n
ATTACH;FMTTYPE=image/jpeg:https://ferienwohnung-kehdingen.de/wp-content/up
 loads/2024/01/bluetenfest-in-drochtersen.jpg
CATEGORIES:Familenfest
END:VEVENT
END:VCALENDAR